BEGIN:VCALENDAR
VERSION:2.0
PRODID:-//Bockenheim an der Weinstraße – Online - ECPv6.15.20//NONSGML v1.0//EN
CALSCALE:GREGORIAN
METHOD:PUBLISH
X-WR-CALNAME:Bockenheim an der Weinstraße – Online
X-ORIGINAL-URL:https://bockenheim-online.de
X-WR-CALDESC:Veranstaltungen für Bockenheim an der Weinstraße – Online
REFRESH-INTERVAL;VALUE=DURATION:PT1H
X-Robots-Tag:noindex
X-PUBLISHED-TTL:PT1H
BEGIN:VTIMEZONE
TZID:Europe/Berlin
BEGIN:DAYLIGHT
TZOFFSETFROM:+0100
TZOFFSETTO:+0200
TZNAME:CEST
DTSTART:20250330T010000
END:DAYLIGHT
BEGIN:STANDARD
TZOFFSETFROM:+0200
TZOFFSETTO:+0100
TZNAME:CET
DTSTART:20251026T010000
END:STANDARD
BEGIN:DAYLIGHT
TZOFFSETFROM:+0100
TZOFFSETTO:+0200
TZNAME:CEST
DTSTART:20260329T010000
END:DAYLIGHT
BEGIN:STANDARD
TZOFFSETFROM:+0200
TZOFFSETTO:+0100
TZNAME:CET
DTSTART:20261025T010000
END:STANDARD
BEGIN:DAYLIGHT
TZOFFSETFROM:+0100
TZOFFSETTO:+0200
TZNAME:CEST
DTSTART:20270328T010000
END:DAYLIGHT
BEGIN:STANDARD
TZOFFSETFROM:+0200
TZOFFSETTO:+0100
TZNAME:CET
DTSTART:20271031T010000
END:STANDARD
END:VTIMEZONE
BEGIN:VEVENT
DTSTART;TZID=Europe/Berlin:20260627T140000
DTEND;TZID=Europe/Berlin:20260627T200000
DTSTAMP:20260422T145723
CREATED:20260316T164602Z
LAST-MODIFIED:20260316T164602Z
UID:8090-1782568800-1782590400@bockenheim-online.de
SUMMARY:SchorleXpress mit dem Weingut V. Griebel
DESCRIPTION:
URL:https://bockenheim-online.de/veranstaltung/schorlexpress-mit-dem-weingut-v-griebel-3/
LOCATION:SchorleXpress\, Patricia Wingert\, Bockenheim an der Weinstraße\, RP\, 67278\, Germany
CATEGORIES:Winzer
ATTACH;FMTTYPE=image/jpeg:https://bockenheim-online.de/wp-content/uploads/2020/07/Griebel-Kuchen-SchorleXpress.jpg
ORGANIZER;CN="Weingut V. Griebel":MAILTO:info@weingut-griebel.de
END:VEVENT
BEGIN:VEVENT
DTSTART;TZID=Europe/Berlin:20260628T110000
DTEND;TZID=Europe/Berlin:20260628T200000
DTSTAMP:20260422T145723
CREATED:20260316T164646Z
LAST-MODIFIED:20260316T164646Z
UID:8092-1782644400-1782676800@bockenheim-online.de
SUMMARY:SchorleXpress mit dem Weingut V. Griebel
DESCRIPTION:
URL:https://bockenheim-online.de/veranstaltung/schorlexpress-mit-dem-weingut-v-griebel-4/
LOCATION:SchorleXpress\, Patricia Wingert\, Bockenheim an der Weinstraße\, RP\, 67278\, Germany
CATEGORIES:Winzer
ATTACH;FMTTYPE=image/jpeg:https://bockenheim-online.de/wp-content/uploads/2020/07/Griebel-Kuchen-SchorleXpress.jpg
ORGANIZER;CN="Weingut V. Griebel":MAILTO:info@weingut-griebel.de
END:VEVENT
BEGIN:VEVENT
DTSTART;TZID=Europe/Berlin:20260704T140000
DTEND;TZID=Europe/Berlin:20260704T200000
DTSTAMP:20260422T145723
CREATED:20260316T164856Z
LAST-MODIFIED:20260316T164856Z
UID:8094-1783173600-1783195200@bockenheim-online.de
SUMMARY:SchorleXpress mit dem Weingut Kurt & Selma Klingel
DESCRIPTION:
URL:https://bockenheim-online.de/veranstaltung/schorlexpress-mit-dem-weingut-kurt-selma-klingel-6/
LOCATION:SchorleXpress\, Patricia Wingert\, Bockenheim an der Weinstraße\, RP\, 67278\, Germany
CATEGORIES:Winzer
ATTACH;FMTTYPE=image/jpeg:https://bockenheim-online.de/wp-content/uploads/2025/06/Klingel-SchorleXpress.jpg
ORGANIZER;CN="Weingut Kurt und Selma Klingel":MAILTO:weingut_kklingel@web.de
END:VEVENT
BEGIN:VEVENT
DTSTART;TZID=Europe/Berlin:20260705T110000
DTEND;TZID=Europe/Berlin:20260705T200000
DTSTAMP:20260422T145723
CREATED:20260316T164944Z
LAST-MODIFIED:20260316T164944Z
UID:8096-1783249200-1783281600@bockenheim-online.de
SUMMARY:SchorleXpress mit dem Weingut Kurt & Selma Klingel
DESCRIPTION:
URL:https://bockenheim-online.de/veranstaltung/schorlexpress-mit-dem-weingut-kurt-selma-klingel-7/
LOCATION:SchorleXpress\, Patricia Wingert\, Bockenheim an der Weinstraße\, RP\, 67278\, Germany
CATEGORIES:Winzer
ATTACH;FMTTYPE=image/jpeg:https://bockenheim-online.de/wp-content/uploads/2025/06/Klingel-SchorleXpress.jpg
ORGANIZER;CN="Weingut Kurt und Selma Klingel":MAILTO:weingut_kklingel@web.de
END:VEVENT
BEGIN:VEVENT
DTSTART;TZID=Europe/Berlin:20260710T180000
DTEND;TZID=Europe/Berlin:20260710T220000
DTSTAMP:20260422T145723
CREATED:20260309T114226Z
LAST-MODIFIED:20260309T114226Z
UID:8005-1783706400-1783720800@bockenheim-online.de
SUMMARY:Sommerfest im Weingut Benß
DESCRIPTION:Am 10. und 11. Juli 2026 heißen wir Sie mit unserem ganzen Sommerfestteam wieder herzlich Willkommen im Weingut in Bockenheim. Wie immer ist für das leibliche Wohl bestens gesorgt. Bei Spezialitäten vom Grill bis zum selbstgebackenem Kuchen ist für jeden etwas dabei. Am Ausschank können unsere Weine bis tief in die Nacht verkostet werden. \nFür die Stimmung spielt an jedem Tag Live-Musik ! \nWir beginnen am Freitag mit „anplagt“ . Die drei Musiker werden mit Ihren Gitarren Akustik-Rock-Cover zum Besten geben. Samstags spielen „Dirty Doc“ bei uns im Weingut. Mit Rock ’n‘ Roll werden Sie das Weingut zum Beben bringen. \nLos gehts:\nFreitag ab 18 Uhr Musik ab 19 Uhr\nSamstag ab 15 Uhr Musik ab 20 Uhr \nWir freuen uns auf Euch!
URL:https://bockenheim-online.de/veranstaltung/sommerfest-im-weingut-benss/
LOCATION:Weingut Benß\, Am Spiegelpfad 10\, Bockenheim\, 67278\, Germany
CATEGORIES:Winzer
ORGANIZER;CN="Weingut Ben%C3%9F":MAILTO:Weingut.benss@t-online.de
END:VEVENT
BEGIN:VEVENT
DTSTART;TZID=Europe/Berlin:20260711T140000
DTEND;TZID=Europe/Berlin:20260711T200000
DTSTAMP:20260422T145723
CREATED:20260316T165243Z
LAST-MODIFIED:20260316T165356Z
UID:8098-1783778400-1783800000@bockenheim-online.de
SUMMARY:SchorleXpress mit dem Weingut Heiser-Buchner
DESCRIPTION:
URL:https://bockenheim-online.de/veranstaltung/schorlexpress-mit-dem-weingut-heiser-buchner-3/
LOCATION:SchorleXpress\, Patricia Wingert\, Bockenheim an der Weinstraße\, RP\, 67278\, Germany
CATEGORIES:Winzer
ATTACH;FMTTYPE=image/jpeg:https://bockenheim-online.de/wp-content/uploads/2025/03/Weingut-Heiser-Buchner.jpg
ORGANIZER;CN="Weingut Heiser-Buchner":MAILTO:heiser-buchner@t-online.de
END:VEVENT
BEGIN:VEVENT
DTSTART;TZID=Europe/Berlin:20260711T150000
DTEND;TZID=Europe/Berlin:20260711T220000
DTSTAMP:20260422T145723
CREATED:20260309T114322Z
LAST-MODIFIED:20260309T114322Z
UID:8008-1783782000-1783807200@bockenheim-online.de
SUMMARY:Sommerfest im Weingut Benß
DESCRIPTION:Am 10. und 11. Juli 2026 heißen wir Sie mit unserem ganzen Sommerfestteam wieder herzlich Willkommen im Weingut in Bockenheim. Wie immer ist für das leibliche Wohl bestens gesorgt. Bei Spezialitäten vom Grill bis zum selbstgebackenem Kuchen ist für jeden etwas dabei. Am Ausschank können unsere Weine bis tief in die Nacht verkostet werden. \nFür die Stimmung spielt an jedem Tag Live-Musik ! \nWir beginnen am Freitag mit „anplagt“ . Die drei Musiker werden mit Ihren Gitarren Akustik-Rock-Cover zum Besten geben. Samstags spielen „Dirty Doc“ bei uns im Weingut. Mit Rock ’n‘ Roll werden Sie das Weingut zum Beben bringen. \nLos gehts:\nFreitag ab 18 Uhr Musik ab 19 Uhr\nSamstag ab 15 Uhr Musik ab 20 Uhr \nWir freuen uns auf Euch!
URL:https://bockenheim-online.de/veranstaltung/sommerfest-im-weingut-benss-2/
LOCATION:Weingut Benß\, Am Spiegelpfad 10\, Bockenheim\, 67278\, Germany
CATEGORIES:Winzer
ORGANIZER;CN="Weingut Ben%C3%9F":MAILTO:Weingut.benss@t-online.de
END:VEVENT
BEGIN:VEVENT
DTSTART;TZID=Europe/Berlin:20260712T110000
DTEND;TZID=Europe/Berlin:20260712T200000
DTSTAMP:20260422T145723
CREATED:20260316T165438Z
LAST-MODIFIED:20260316T165438Z
UID:8100-1783854000-1783886400@bockenheim-online.de
SUMMARY:SchorleXpress mit dem Weingut Heiser-Buchner
DESCRIPTION:
URL:https://bockenheim-online.de/veranstaltung/schorlexpress-mit-dem-weingut-heiser-buchner-4/
LOCATION:SchorleXpress\, Patricia Wingert\, Bockenheim an der Weinstraße\, RP\, 67278\, Germany
CATEGORIES:Winzer
ATTACH;FMTTYPE=image/jpeg:https://bockenheim-online.de/wp-content/uploads/2025/03/Weingut-Heiser-Buchner.jpg
ORGANIZER;CN="Weingut Heiser-Buchner":MAILTO:heiser-buchner@t-online.de
END:VEVENT
BEGIN:VEVENT
DTSTART;TZID=Europe/Berlin:20260718T140000
DTEND;TZID=Europe/Berlin:20260718T200000
DTSTAMP:20260422T145723
CREATED:20260316T165550Z
LAST-MODIFIED:20260316T165550Z
UID:8102-1784383200-1784404800@bockenheim-online.de
SUMMARY:SchorleXpress mit dem Weingut Bengel
DESCRIPTION:
URL:https://bockenheim-online.de/veranstaltung/schorlexpress-mit-dem-weingut-bengel-7/
LOCATION:SchorleXpress\, Patricia Wingert\, Bockenheim an der Weinstraße\, RP\, 67278\, Germany
CATEGORIES:Winzer
ATTACH;FMTTYPE=image/jpeg:https://bockenheim-online.de/wp-content/uploads/2025/04/489379823_1226050889524448_5791533025368854574_n.jpg
ORGANIZER;CN="Weingut Bengel":MAILTO:info@weingutbengel.de
END:VEVENT
BEGIN:VEVENT
DTSTART;TZID=Europe/Berlin:20260719T110000
DTEND;TZID=Europe/Berlin:20260719T200000
DTSTAMP:20260422T145723
CREATED:20260316T165632Z
LAST-MODIFIED:20260316T165632Z
UID:8104-1784458800-1784491200@bockenheim-online.de
SUMMARY:SchorleXpress mit dem Weingut Bengel
DESCRIPTION:
URL:https://bockenheim-online.de/veranstaltung/schorlexpress-mit-dem-weingut-bengel-8/
LOCATION:SchorleXpress\, Patricia Wingert\, Bockenheim an der Weinstraße\, RP\, 67278\, Germany
CATEGORIES:Winzer
ATTACH;FMTTYPE=image/jpeg:https://bockenheim-online.de/wp-content/uploads/2025/04/489379823_1226050889524448_5791533025368854574_n.jpg
ORGANIZER;CN="Weingut Bengel":MAILTO:info@weingutbengel.de
END:VEVENT
BEGIN:VEVENT
DTSTART;TZID=Europe/Berlin:20260725T140000
DTEND;TZID=Europe/Berlin:20260725T200000
DTSTAMP:20260422T145723
CREATED:20260316T170034Z
LAST-MODIFIED:20260316T170034Z
UID:8110-1784988000-1785009600@bockenheim-online.de
SUMMARY:SchorleXpress mit dem Weingut Bengel
DESCRIPTION:
URL:https://bockenheim-online.de/veranstaltung/schorlexpress-mit-dem-weingut-bengel-9/
LOCATION:SchorleXpress\, Patricia Wingert\, Bockenheim an der Weinstraße\, RP\, 67278\, Germany
CATEGORIES:Winzer
ATTACH;FMTTYPE=image/jpeg:https://bockenheim-online.de/wp-content/uploads/2025/04/489379823_1226050889524448_5791533025368854574_n.jpg
ORGANIZER;CN="Weingut Bengel":MAILTO:info@weingutbengel.de
END:VEVENT
BEGIN:VEVENT
DTSTART;TZID=Europe/Berlin:20260726T110000
DTEND;TZID=Europe/Berlin:20260726T200000
DTSTAMP:20260422T145723
CREATED:20260316T170108Z
LAST-MODIFIED:20260316T170122Z
UID:8112-1785063600-1785096000@bockenheim-online.de
SUMMARY:SchorleXpress mit dem Weingut Bengel
DESCRIPTION:
URL:https://bockenheim-online.de/veranstaltung/schorlexpress-mit-dem-weingut-bengel-duplikat/
LOCATION:SchorleXpress\, Patricia Wingert\, Bockenheim an der Weinstraße\, RP\, 67278\, Germany
CATEGORIES:Winzer
ATTACH;FMTTYPE=image/jpeg:https://bockenheim-online.de/wp-content/uploads/2025/04/489379823_1226050889524448_5791533025368854574_n.jpg
ORGANIZER;CN="Weingut Bengel":MAILTO:info@weingutbengel.de
END:VEVENT
BEGIN:VEVENT
DTSTART;TZID=Europe/Berlin:20260801T140000
DTEND;TZID=Europe/Berlin:20260801T200000
DTSTAMP:20260422T145723
CREATED:20260317T114532Z
LAST-MODIFIED:20260317T114532Z
UID:8118-1785592800-1785614400@bockenheim-online.de
SUMMARY:SchorleXpress mit dem Weingut Heiser-Buchner
DESCRIPTION:
URL:https://bockenheim-online.de/veranstaltung/schorlexpress-mit-dem-weingut-heiser-buchner-5/
LOCATION:SchorleXpress\, Patricia Wingert\, Bockenheim an der Weinstraße\, RP\, 67278\, Germany
CATEGORIES:Winzer
ATTACH;FMTTYPE=image/jpeg:https://bockenheim-online.de/wp-content/uploads/2025/03/Weingut-Heiser-Buchner.jpg
ORGANIZER;CN="Weingut Heiser-Buchner":MAILTO:heiser-buchner@t-online.de
END:VEVENT
BEGIN:VEVENT
DTSTART;TZID=Europe/Berlin:20260802T110000
DTEND;TZID=Europe/Berlin:20260802T200000
DTSTAMP:20260422T145723
CREATED:20260317T114624Z
LAST-MODIFIED:20260317T114624Z
UID:8120-1785668400-1785700800@bockenheim-online.de
SUMMARY:SchorleXpress mit dem Weingut Heiser-Buchner
DESCRIPTION:
URL:https://bockenheim-online.de/veranstaltung/schorlexpress-mit-dem-weingut-heiser-buchner-6/
LOCATION:SchorleXpress\, Patricia Wingert\, Bockenheim an der Weinstraße\, RP\, 67278\, Germany
CATEGORIES:Winzer
ATTACH;FMTTYPE=image/jpeg:https://bockenheim-online.de/wp-content/uploads/2025/03/Weingut-Heiser-Buchner.jpg
ORGANIZER;CN="Weingut Heiser-Buchner":MAILTO:heiser-buchner@t-online.de
END:VEVENT
BEGIN:VEVENT
DTSTART;TZID=Europe/Berlin:20260808T140000
DTEND;TZID=Europe/Berlin:20260808T200000
DTSTAMP:20260422T145723
CREATED:20260317T115027Z
LAST-MODIFIED:20260317T115027Z
UID:8122-1786197600-1786219200@bockenheim-online.de
SUMMARY:SchorleXpress mit dem Weingut Kurt & Selma Klingel
DESCRIPTION:
URL:https://bockenheim-online.de/veranstaltung/schorlexpress-mit-dem-weingut-kurt-selma-klingel-8/
LOCATION:SchorleXpress\, Patricia Wingert\, Bockenheim an der Weinstraße\, RP\, 67278\, Germany
CATEGORIES:Winzer
ATTACH;FMTTYPE=image/jpeg:https://bockenheim-online.de/wp-content/uploads/2025/06/Klingel-SchorleXpress.jpg
ORGANIZER;CN="Weingut Kurt und Selma Klingel":MAILTO:weingut_kklingel@web.de
END:VEVENT
BEGIN:VEVENT
DTSTART;TZID=Europe/Berlin:20260809T110000
DTEND;TZID=Europe/Berlin:20260809T200000
DTSTAMP:20260422T145723
CREATED:20260317T115124Z
LAST-MODIFIED:20260317T115124Z
UID:8124-1786273200-1786305600@bockenheim-online.de
SUMMARY:SchorleXpress mit dem Weingut Kurt & Selma Klingel
DESCRIPTION:
URL:https://bockenheim-online.de/veranstaltung/schorlexpress-mit-dem-weingut-kurt-selma-klingel-9/
LOCATION:SchorleXpress\, Patricia Wingert\, Bockenheim an der Weinstraße\, RP\, 67278\, Germany
CATEGORIES:Winzer
ATTACH;FMTTYPE=image/jpeg:https://bockenheim-online.de/wp-content/uploads/2025/06/Klingel-SchorleXpress.jpg
ORGANIZER;CN="Weingut Kurt und Selma Klingel":MAILTO:weingut_kklingel@web.de
END:VEVENT
BEGIN:VEVENT
DTSTART;TZID=Europe/Berlin:20260815T140000
DTEND;TZID=Europe/Berlin:20260815T200000
DTSTAMP:20260422T145723
CREATED:20260317T115247Z
LAST-MODIFIED:20260317T115247Z
UID:8126-1786802400-1786824000@bockenheim-online.de
SUMMARY:SchorleXpress mit dem Weingut Bengel
DESCRIPTION:
URL:https://bockenheim-online.de/veranstaltung/schorlexpress-mit-dem-weingut-bengel-10/
LOCATION:SchorleXpress\, Patricia Wingert\, Bockenheim an der Weinstraße\, RP\, 67278\, Germany
CATEGORIES:Winzer
ATTACH;FMTTYPE=image/jpeg:https://bockenheim-online.de/wp-content/uploads/2025/04/489379823_1226050889524448_5791533025368854574_n.jpg
ORGANIZER;CN="Weingut Bengel":MAILTO:info@weingutbengel.de
END:VEVENT
BEGIN:VEVENT
DTSTART;TZID=Europe/Berlin:20260816T110000
DTEND;TZID=Europe/Berlin:20260816T200000
DTSTAMP:20260422T145723
CREATED:20260317T115335Z
LAST-MODIFIED:20260317T115335Z
UID:8128-1786878000-1786910400@bockenheim-online.de
SUMMARY:SchorleXpress mit dem Weingut Bengel
DESCRIPTION:
URL:https://bockenheim-online.de/veranstaltung/schorlexpress-mit-dem-weingut-bengel-11/
LOCATION:SchorleXpress\, Patricia Wingert\, Bockenheim an der Weinstraße\, RP\, 67278\, Germany
CATEGORIES:Winzer
ATTACH;FMTTYPE=image/jpeg:https://bockenheim-online.de/wp-content/uploads/2025/04/489379823_1226050889524448_5791533025368854574_n.jpg
ORGANIZER;CN="Weingut Bengel":MAILTO:info@weingutbengel.de
END:VEVENT
BEGIN:VEVENT
DTSTART;TZID=Europe/Berlin:20260822T140000
DTEND;TZID=Europe/Berlin:20260822T200000
DTSTAMP:20260422T145723
CREATED:20260317T115419Z
LAST-MODIFIED:20260317T115419Z
UID:8130-1787407200-1787428800@bockenheim-online.de
SUMMARY:SchorleXpress mit dem Weingut Bengel
DESCRIPTION:
URL:https://bockenheim-online.de/veranstaltung/schorlexpress-mit-dem-weingut-bengel-12/
LOCATION:SchorleXpress\, Patricia Wingert\, Bockenheim an der Weinstraße\, RP\, 67278\, Germany
CATEGORIES:Winzer
ATTACH;FMTTYPE=image/jpeg:https://bockenheim-online.de/wp-content/uploads/2025/04/489379823_1226050889524448_5791533025368854574_n.jpg
ORGANIZER;CN="Weingut Bengel":MAILTO:info@weingutbengel.de
END:VEVENT
BEGIN:VEVENT
DTSTART;TZID=Europe/Berlin:20260823T110000
DTEND;TZID=Europe/Berlin:20260823T200000
DTSTAMP:20260422T145723
CREATED:20260317T115508Z
LAST-MODIFIED:20260317T115508Z
UID:8132-1787482800-1787515200@bockenheim-online.de
SUMMARY:SchorleXpress mit dem Weingut Bengel
DESCRIPTION:
URL:https://bockenheim-online.de/veranstaltung/schorlexpress-mit-dem-weingut-bengel-13/
LOCATION:SchorleXpress\, Patricia Wingert\, Bockenheim an der Weinstraße\, RP\, 67278\, Germany
CATEGORIES:Winzer
ATTACH;FMTTYPE=image/jpeg:https://bockenheim-online.de/wp-content/uploads/2025/04/489379823_1226050889524448_5791533025368854574_n.jpg
ORGANIZER;CN="Weingut Bengel":MAILTO:info@weingutbengel.de
END:VEVENT
BEGIN:VEVENT
DTSTART;VALUE=DATE:20260828
DTEND;VALUE=DATE:20260902
DTSTAMP:20260422T145723
CREATED:20251127T130844Z
LAST-MODIFIED:20251127T130844Z
UID:7854-1787904000-1788249599@bockenheim-online.de
SUMMARY:Bockenheimer Kerwe
DESCRIPTION:
URL:https://bockenheim-online.de/veranstaltung/bockenheimer-kerwe/
LOCATION:Platz der Partnerschaft\, Weinstraße 51\, Bockenheim\, RP\, 67278\, Deutschland
CATEGORIES:sonstige Veranstaltungen
ATTACH;FMTTYPE=image/webp:https://bockenheim-online.de/wp-content/uploads/2025/11/kerwe_griebel09-d1d7f7c2-503811ba@0ll.webp
END:VEVENT
BEGIN:VEVENT
DTSTART;TZID=Europe/Berlin:20260829T140000
DTEND;TZID=Europe/Berlin:20260829T200000
DTSTAMP:20260422T145723
CREATED:20260317T115702Z
LAST-MODIFIED:20260317T115702Z
UID:8134-1788012000-1788033600@bockenheim-online.de
SUMMARY:SchorleXpress mit dem Weingut Kurt & Selma Klingel
DESCRIPTION:
URL:https://bockenheim-online.de/veranstaltung/schorlexpress-mit-dem-weingut-kurt-selma-klingel-10/
LOCATION:SchorleXpress\, Patricia Wingert\, Bockenheim an der Weinstraße\, RP\, 67278\, Germany
CATEGORIES:Winzer
ATTACH;FMTTYPE=image/jpeg:https://bockenheim-online.de/wp-content/uploads/2025/06/Klingel-SchorleXpress.jpg
ORGANIZER;CN="Weingut Kurt und Selma Klingel":MAILTO:weingut_kklingel@web.de
END:VEVENT
BEGIN:VEVENT
DTSTART;TZID=Europe/Berlin:20260830T110000
DTEND;TZID=Europe/Berlin:20260830T200000
DTSTAMP:20260422T145723
CREATED:20260317T115746Z
LAST-MODIFIED:20260317T115746Z
UID:8136-1788087600-1788120000@bockenheim-online.de
SUMMARY:SchorleXpress mit dem Weingut Kurt & Selma Klingel
DESCRIPTION:
URL:https://bockenheim-online.de/veranstaltung/schorlexpress-mit-dem-weingut-kurt-selma-klingel-11/
LOCATION:SchorleXpress\, Patricia Wingert\, Bockenheim an der Weinstraße\, RP\, 67278\, Germany
CATEGORIES:Winzer
ATTACH;FMTTYPE=image/jpeg:https://bockenheim-online.de/wp-content/uploads/2025/06/Klingel-SchorleXpress.jpg
ORGANIZER;CN="Weingut Kurt und Selma Klingel":MAILTO:weingut_kklingel@web.de
END:VEVENT
BEGIN:VEVENT
DTSTART;TZID=Europe/Berlin:20260905T140000
DTEND;TZID=Europe/Berlin:20260905T200000
DTSTAMP:20260422T145723
CREATED:20260317T115922Z
LAST-MODIFIED:20260317T115922Z
UID:8138-1788616800-1788638400@bockenheim-online.de
SUMMARY:SchorleXpress mit dem Weingut Lösch
DESCRIPTION:
URL:https://bockenheim-online.de/veranstaltung/schorlexpress-mit-dem-weingut-loesch-3/
LOCATION:SchorleXpress\, Patricia Wingert\, Bockenheim an der Weinstraße\, RP\, 67278\, Germany
CATEGORIES:Winzer
ATTACH;FMTTYPE=image/jpeg:https://bockenheim-online.de/wp-content/uploads/2021/09/Weinlaube-Loesch-scaled.jpg
ORGANIZER;CN="Weingut L%C3%B6sch":MAILTO:info@weingut-pension-loesch.de
END:VEVENT
BEGIN:VEVENT
DTSTART;TZID=Europe/Berlin:20260906T110000
DTEND;TZID=Europe/Berlin:20260906T200000
DTSTAMP:20260422T145723
CREATED:20260317T120001Z
LAST-MODIFIED:20260317T120001Z
UID:8140-1788692400-1788724800@bockenheim-online.de
SUMMARY:SchorleXpress mit dem Weingut Lösch
DESCRIPTION:
URL:https://bockenheim-online.de/veranstaltung/schorlexpress-mit-dem-weingut-loesch-4/
LOCATION:SchorleXpress\, Patricia Wingert\, Bockenheim an der Weinstraße\, RP\, 67278\, Germany
CATEGORIES:Winzer
ATTACH;FMTTYPE=image/jpeg:https://bockenheim-online.de/wp-content/uploads/2021/09/Weinlaube-Loesch-scaled.jpg
ORGANIZER;CN="Weingut L%C3%B6sch":MAILTO:info@weingut-pension-loesch.de
END:VEVENT
BEGIN:VEVENT
DTSTART;VALUE=DATE:20260913
DTEND;VALUE=DATE:20260915
DTSTAMP:20260422T145723
CREATED:20251127T131015Z
LAST-MODIFIED:20251127T131015Z
UID:7857-1789286400-1789372799@bockenheim-online.de
SUMMARY:Herbstfest im Wingert
DESCRIPTION:
URL:https://bockenheim-online.de/veranstaltung/herbstfest-im-wingert-2/
LOCATION:SchorleXpress\, Patricia Wingert\, Bockenheim an der Weinstraße\, RP\, 67278\, Germany
CATEGORIES:KVV
ATTACH;FMTTYPE=image/jpeg:https://bockenheim-online.de/wp-content/uploads/2023/09/Herbstfest-2023-13.jpeg
ORGANIZER;CN="Kultur- und Verkehrsverein Bockenheim e.V.":MAILTO:info@bockenheim-online.de
END:VEVENT
BEGIN:VEVENT
DTSTART;VALUE=DATE:20260919
DTEND;VALUE=DATE:20260922
DTSTAMP:20260422T145723
CREATED:20251127T131334Z
LAST-MODIFIED:20251127T131334Z
UID:7859-1789804800-1789977599@bockenheim-online.de
SUMMARY:Kunstweg
DESCRIPTION:
URL:https://bockenheim-online.de/veranstaltung/kunstweg/
LOCATION:Bockenheim\, Bockenheim\, RP\, 67278\, Deutschland
CATEGORIES:sonstige Veranstaltungen
ATTACH;FMTTYPE=image/webp:https://bockenheim-online.de/wp-content/uploads/2025/11/327483673_3002220589921290_608885777218561944_n.webp
END:VEVENT
BEGIN:VEVENT
DTSTART;TZID=Europe/Berlin:20260919T140000
DTEND;TZID=Europe/Berlin:20260919T200000
DTSTAMP:20260422T145723
CREATED:20260317T120159Z
LAST-MODIFIED:20260317T120159Z
UID:8142-1789826400-1789848000@bockenheim-online.de
SUMMARY:SchorleXpress mit dem Weingut V. Griebel
DESCRIPTION:
URL:https://bockenheim-online.de/veranstaltung/schorlexpress-mit-dem-weingut-v-griebel-5/
LOCATION:SchorleXpress\, Patricia Wingert\, Bockenheim an der Weinstraße\, RP\, 67278\, Germany
CATEGORIES:Winzer
ATTACH;FMTTYPE=image/jpeg:https://bockenheim-online.de/wp-content/uploads/2020/07/Griebel-Kuchen-SchorleXpress.jpg
ORGANIZER;CN="Weingut V. Griebel":MAILTO:info@weingut-griebel.de
END:VEVENT
BEGIN:VEVENT
DTSTART;TZID=Europe/Berlin:20260920T110000
DTEND;TZID=Europe/Berlin:20260920T200000
DTSTAMP:20260422T145723
CREATED:20260317T120300Z
LAST-MODIFIED:20260317T120300Z
UID:8144-1789902000-1789934400@bockenheim-online.de
SUMMARY:SchorleXpress mit dem Weingut V. Griebel
DESCRIPTION:
URL:https://bockenheim-online.de/veranstaltung/schorlexpress-mit-dem-weingut-v-griebel-6/
LOCATION:SchorleXpress\, Patricia Wingert\, Bockenheim an der Weinstraße\, RP\, 67278\, Germany
CATEGORIES:Winzer
ATTACH;FMTTYPE=image/jpeg:https://bockenheim-online.de/wp-content/uploads/2020/07/Griebel-Kuchen-SchorleXpress.jpg
ORGANIZER;CN="Weingut V. Griebel":MAILTO:info@weingut-griebel.de
END:VEVENT
BEGIN:VEVENT
DTSTART;TZID=Europe/Berlin:20260926T140000
DTEND;TZID=Europe/Berlin:20260926T200000
DTSTAMP:20260422T145723
CREATED:20260317T120424Z
LAST-MODIFIED:20260317T120424Z
UID:8146-1790431200-1790452800@bockenheim-online.de
SUMMARY:SchorleXpress mit dem Weinhaus Schlick
DESCRIPTION:
URL:https://bockenheim-online.de/veranstaltung/schorlexpress-mit-dem-weinhaus-schlick-2/
LOCATION:SchorleXpress\, Patricia Wingert\, Bockenheim an der Weinstraße\, RP\, 67278\, Germany
CATEGORIES:Winzer
ATTACH;FMTTYPE=image/jpeg:https://bockenheim-online.de/wp-content/uploads/2020/07/Griebel-Kuchen-SchorleXpress.jpg
END:VEVENT
END:VCALENDAR