BEGIN:VCALENDAR
VERSION:2.0
PRODID:-//Bockenheim an der Weinstraße – Online - ECPv6.15.20//NONSGML v1.0//EN
CALSCALE:GREGORIAN
METHOD:PUBLISH
X-WR-CALNAME:Bockenheim an der Weinstraße – Online
X-ORIGINAL-URL:https://bockenheim-online.de
X-WR-CALDESC:Veranstaltungen für Bockenheim an der Weinstraße – Online
REFRESH-INTERVAL;VALUE=DURATION:PT1H
X-Robots-Tag:noindex
X-PUBLISHED-TTL:PT1H
BEGIN:VTIMEZONE
TZID:Europe/Berlin
BEGIN:DAYLIGHT
TZOFFSETFROM:+0100
TZOFFSETTO:+0200
TZNAME:CEST
DTSTART:20250330T010000
END:DAYLIGHT
BEGIN:STANDARD
TZOFFSETFROM:+0200
TZOFFSETTO:+0100
TZNAME:CET
DTSTART:20251026T010000
END:STANDARD
BEGIN:DAYLIGHT
TZOFFSETFROM:+0100
TZOFFSETTO:+0200
TZNAME:CEST
DTSTART:20260329T010000
END:DAYLIGHT
BEGIN:STANDARD
TZOFFSETFROM:+0200
TZOFFSETTO:+0100
TZNAME:CET
DTSTART:20261025T010000
END:STANDARD
BEGIN:DAYLIGHT
TZOFFSETFROM:+0100
TZOFFSETTO:+0200
TZNAME:CEST
DTSTART:20270328T010000
END:DAYLIGHT
BEGIN:STANDARD
TZOFFSETFROM:+0200
TZOFFSETTO:+0100
TZNAME:CET
DTSTART:20271031T010000
END:STANDARD
END:VTIMEZONE
BEGIN:VEVENT
DTSTART;VALUE=DATE:20260828
DTEND;VALUE=DATE:20260902
DTSTAMP:20260422T172657
CREATED:20251127T130844Z
LAST-MODIFIED:20251127T130844Z
UID:7854-1787904000-1788249599@bockenheim-online.de
SUMMARY:Bockenheimer Kerwe
DESCRIPTION:
URL:https://bockenheim-online.de/veranstaltung/bockenheimer-kerwe/
LOCATION:Platz der Partnerschaft\, Weinstraße 51\, Bockenheim\, RP\, 67278\, Deutschland
CATEGORIES:sonstige Veranstaltungen
ATTACH;FMTTYPE=image/webp:https://bockenheim-online.de/wp-content/uploads/2025/11/kerwe_griebel09-d1d7f7c2-503811ba@0ll.webp
END:VEVENT
BEGIN:VEVENT
DTSTART;TZID=Europe/Berlin:20260829T140000
DTEND;TZID=Europe/Berlin:20260829T200000
DTSTAMP:20260422T172657
CREATED:20260317T115702Z
LAST-MODIFIED:20260317T115702Z
UID:8134-1788012000-1788033600@bockenheim-online.de
SUMMARY:SchorleXpress mit dem Weingut Kurt & Selma Klingel
DESCRIPTION:
URL:https://bockenheim-online.de/veranstaltung/schorlexpress-mit-dem-weingut-kurt-selma-klingel-10/
LOCATION:SchorleXpress\, Patricia Wingert\, Bockenheim an der Weinstraße\, RP\, 67278\, Germany
CATEGORIES:Winzer
ATTACH;FMTTYPE=image/jpeg:https://bockenheim-online.de/wp-content/uploads/2025/06/Klingel-SchorleXpress.jpg
ORGANIZER;CN="Weingut Kurt und Selma Klingel":MAILTO:weingut_kklingel@web.de
END:VEVENT
BEGIN:VEVENT
DTSTART;TZID=Europe/Berlin:20260830T110000
DTEND;TZID=Europe/Berlin:20260830T200000
DTSTAMP:20260422T172657
CREATED:20260317T115746Z
LAST-MODIFIED:20260317T115746Z
UID:8136-1788087600-1788120000@bockenheim-online.de
SUMMARY:SchorleXpress mit dem Weingut Kurt & Selma Klingel
DESCRIPTION:
URL:https://bockenheim-online.de/veranstaltung/schorlexpress-mit-dem-weingut-kurt-selma-klingel-11/
LOCATION:SchorleXpress\, Patricia Wingert\, Bockenheim an der Weinstraße\, RP\, 67278\, Germany
CATEGORIES:Winzer
ATTACH;FMTTYPE=image/jpeg:https://bockenheim-online.de/wp-content/uploads/2025/06/Klingel-SchorleXpress.jpg
ORGANIZER;CN="Weingut Kurt und Selma Klingel":MAILTO:weingut_kklingel@web.de
END:VEVENT
BEGIN:VEVENT
DTSTART;TZID=Europe/Berlin:20260905T140000
DTEND;TZID=Europe/Berlin:20260905T200000
DTSTAMP:20260422T172657
CREATED:20260317T115922Z
LAST-MODIFIED:20260317T115922Z
UID:8138-1788616800-1788638400@bockenheim-online.de
SUMMARY:SchorleXpress mit dem Weingut Lösch
DESCRIPTION:
URL:https://bockenheim-online.de/veranstaltung/schorlexpress-mit-dem-weingut-loesch-3/
LOCATION:SchorleXpress\, Patricia Wingert\, Bockenheim an der Weinstraße\, RP\, 67278\, Germany
CATEGORIES:Winzer
ATTACH;FMTTYPE=image/jpeg:https://bockenheim-online.de/wp-content/uploads/2021/09/Weinlaube-Loesch-scaled.jpg
ORGANIZER;CN="Weingut L%C3%B6sch":MAILTO:info@weingut-pension-loesch.de
END:VEVENT
BEGIN:VEVENT
DTSTART;TZID=Europe/Berlin:20260906T110000
DTEND;TZID=Europe/Berlin:20260906T200000
DTSTAMP:20260422T172657
CREATED:20260317T120001Z
LAST-MODIFIED:20260317T120001Z
UID:8140-1788692400-1788724800@bockenheim-online.de
SUMMARY:SchorleXpress mit dem Weingut Lösch
DESCRIPTION:
URL:https://bockenheim-online.de/veranstaltung/schorlexpress-mit-dem-weingut-loesch-4/
LOCATION:SchorleXpress\, Patricia Wingert\, Bockenheim an der Weinstraße\, RP\, 67278\, Germany
CATEGORIES:Winzer
ATTACH;FMTTYPE=image/jpeg:https://bockenheim-online.de/wp-content/uploads/2021/09/Weinlaube-Loesch-scaled.jpg
ORGANIZER;CN="Weingut L%C3%B6sch":MAILTO:info@weingut-pension-loesch.de
END:VEVENT
BEGIN:VEVENT
DTSTART;VALUE=DATE:20260913
DTEND;VALUE=DATE:20260915
DTSTAMP:20260422T172657
CREATED:20251127T131015Z
LAST-MODIFIED:20251127T131015Z
UID:7857-1789286400-1789372799@bockenheim-online.de
SUMMARY:Herbstfest im Wingert
DESCRIPTION:
URL:https://bockenheim-online.de/veranstaltung/herbstfest-im-wingert-2/
LOCATION:SchorleXpress\, Patricia Wingert\, Bockenheim an der Weinstraße\, RP\, 67278\, Germany
CATEGORIES:KVV
ATTACH;FMTTYPE=image/jpeg:https://bockenheim-online.de/wp-content/uploads/2023/09/Herbstfest-2023-13.jpeg
ORGANIZER;CN="Kultur- und Verkehrsverein Bockenheim e.V.":MAILTO:info@bockenheim-online.de
END:VEVENT
BEGIN:VEVENT
DTSTART;VALUE=DATE:20260919
DTEND;VALUE=DATE:20260922
DTSTAMP:20260422T172657
CREATED:20251127T131334Z
LAST-MODIFIED:20251127T131334Z
UID:7859-1789804800-1789977599@bockenheim-online.de
SUMMARY:Kunstweg
DESCRIPTION:
URL:https://bockenheim-online.de/veranstaltung/kunstweg/
LOCATION:Bockenheim\, Bockenheim\, RP\, 67278\, Deutschland
CATEGORIES:sonstige Veranstaltungen
ATTACH;FMTTYPE=image/webp:https://bockenheim-online.de/wp-content/uploads/2025/11/327483673_3002220589921290_608885777218561944_n.webp
END:VEVENT
BEGIN:VEVENT
DTSTART;TZID=Europe/Berlin:20260919T140000
DTEND;TZID=Europe/Berlin:20260919T200000
DTSTAMP:20260422T172657
CREATED:20260317T120159Z
LAST-MODIFIED:20260317T120159Z
UID:8142-1789826400-1789848000@bockenheim-online.de
SUMMARY:SchorleXpress mit dem Weingut V. Griebel
DESCRIPTION:
URL:https://bockenheim-online.de/veranstaltung/schorlexpress-mit-dem-weingut-v-griebel-5/
LOCATION:SchorleXpress\, Patricia Wingert\, Bockenheim an der Weinstraße\, RP\, 67278\, Germany
CATEGORIES:Winzer
ATTACH;FMTTYPE=image/jpeg:https://bockenheim-online.de/wp-content/uploads/2020/07/Griebel-Kuchen-SchorleXpress.jpg
ORGANIZER;CN="Weingut V. Griebel":MAILTO:info@weingut-griebel.de
END:VEVENT
BEGIN:VEVENT
DTSTART;TZID=Europe/Berlin:20260920T110000
DTEND;TZID=Europe/Berlin:20260920T200000
DTSTAMP:20260422T172657
CREATED:20260317T120300Z
LAST-MODIFIED:20260317T120300Z
UID:8144-1789902000-1789934400@bockenheim-online.de
SUMMARY:SchorleXpress mit dem Weingut V. Griebel
DESCRIPTION:
URL:https://bockenheim-online.de/veranstaltung/schorlexpress-mit-dem-weingut-v-griebel-6/
LOCATION:SchorleXpress\, Patricia Wingert\, Bockenheim an der Weinstraße\, RP\, 67278\, Germany
CATEGORIES:Winzer
ATTACH;FMTTYPE=image/jpeg:https://bockenheim-online.de/wp-content/uploads/2020/07/Griebel-Kuchen-SchorleXpress.jpg
ORGANIZER;CN="Weingut V. Griebel":MAILTO:info@weingut-griebel.de
END:VEVENT
BEGIN:VEVENT
DTSTART;TZID=Europe/Berlin:20260926T140000
DTEND;TZID=Europe/Berlin:20260926T200000
DTSTAMP:20260422T172657
CREATED:20260317T120424Z
LAST-MODIFIED:20260317T120424Z
UID:8146-1790431200-1790452800@bockenheim-online.de
SUMMARY:SchorleXpress mit dem Weinhaus Schlick
DESCRIPTION:
URL:https://bockenheim-online.de/veranstaltung/schorlexpress-mit-dem-weinhaus-schlick-2/
LOCATION:SchorleXpress\, Patricia Wingert\, Bockenheim an der Weinstraße\, RP\, 67278\, Germany
CATEGORIES:Winzer
ATTACH;FMTTYPE=image/jpeg:https://bockenheim-online.de/wp-content/uploads/2020/07/Griebel-Kuchen-SchorleXpress.jpg
END:VEVENT
BEGIN:VEVENT
DTSTART;TZID=Europe/Berlin:20260927T110000
DTEND;TZID=Europe/Berlin:20260927T200000
DTSTAMP:20260422T172657
CREATED:20260317T120505Z
LAST-MODIFIED:20260317T120505Z
UID:8148-1790506800-1790539200@bockenheim-online.de
SUMMARY:SchorleXpress mit dem Weinhaus Schlick
DESCRIPTION:
URL:https://bockenheim-online.de/veranstaltung/schorlexpress-mit-dem-weinhaus-schlick-3/
LOCATION:SchorleXpress\, Patricia Wingert\, Bockenheim an der Weinstraße\, RP\, 67278\, Germany
CATEGORIES:Winzer
ATTACH;FMTTYPE=image/jpeg:https://bockenheim-online.de/wp-content/uploads/2020/07/Griebel-Kuchen-SchorleXpress.jpg
END:VEVENT
BEGIN:VEVENT
DTSTART;TZID=Europe/Berlin:20261003T140000
DTEND;TZID=Europe/Berlin:20261003T200000
DTSTAMP:20260422T172657
CREATED:20260317T120556Z
LAST-MODIFIED:20260317T120556Z
UID:8150-1791036000-1791057600@bockenheim-online.de
SUMMARY:SchorleXpress mit dem Weinhaus Schlick
DESCRIPTION:
URL:https://bockenheim-online.de/veranstaltung/schorlexpress-mit-dem-weinhaus-schlick-4/
LOCATION:SchorleXpress\, Patricia Wingert\, Bockenheim an der Weinstraße\, RP\, 67278\, Germany
CATEGORIES:Winzer
ATTACH;FMTTYPE=image/jpeg:https://bockenheim-online.de/wp-content/uploads/2020/07/Griebel-Kuchen-SchorleXpress.jpg
END:VEVENT
BEGIN:VEVENT
DTSTART;TZID=Europe/Berlin:20261004T110000
DTEND;TZID=Europe/Berlin:20261004T200000
DTSTAMP:20260422T172657
CREATED:20260317T120643Z
LAST-MODIFIED:20260317T120643Z
UID:8152-1791111600-1791144000@bockenheim-online.de
SUMMARY:SchorleXpress mit dem Weinhaus Schlick
DESCRIPTION:
URL:https://bockenheim-online.de/veranstaltung/schorlexpress-mit-dem-weinhaus-schlick-5/
LOCATION:SchorleXpress\, Patricia Wingert\, Bockenheim an der Weinstraße\, RP\, 67278\, Germany
CATEGORIES:Winzer
ATTACH;FMTTYPE=image/jpeg:https://bockenheim-online.de/wp-content/uploads/2020/07/Griebel-Kuchen-SchorleXpress.jpg
END:VEVENT
BEGIN:VEVENT
DTSTART;TZID=Europe/Berlin:20261010T140000
DTEND;TZID=Europe/Berlin:20261010T200000
DTSTAMP:20260422T172657
CREATED:20260317T120915Z
LAST-MODIFIED:20260317T120915Z
UID:8154-1791640800-1791662400@bockenheim-online.de
SUMMARY:SchorleXpress "Weingut Überraschung"
DESCRIPTION:
URL:https://bockenheim-online.de/veranstaltung/schorlexpress-weingut-ueberraschung/
LOCATION:SchorleXpress\, Patricia Wingert\, Bockenheim an der Weinstraße\, RP\, 67278\, Germany
CATEGORIES:Winzer
ATTACH;FMTTYPE=image/jpeg:https://bockenheim-online.de/wp-content/uploads/2020/07/Griebel-Kuchen-SchorleXpress.jpg
END:VEVENT
BEGIN:VEVENT
DTSTART;TZID=Europe/Berlin:20261011T110000
DTEND;TZID=Europe/Berlin:20261011T200000
DTSTAMP:20260422T172657
CREATED:20260317T121006Z
LAST-MODIFIED:20260317T121006Z
UID:8156-1791716400-1791748800@bockenheim-online.de
SUMMARY:SchorleXpress "Weingut Überraschung"
DESCRIPTION:
URL:https://bockenheim-online.de/veranstaltung/schorlexpress-weingut-ueberraschung-2/
LOCATION:SchorleXpress\, Patricia Wingert\, Bockenheim an der Weinstraße\, RP\, 67278\, Germany
CATEGORIES:Winzer
ATTACH;FMTTYPE=image/jpeg:https://bockenheim-online.de/wp-content/uploads/2020/07/Griebel-Kuchen-SchorleXpress.jpg
END:VEVENT
BEGIN:VEVENT
DTSTART;VALUE=DATE:20261015
DTEND;VALUE=DATE:20261017
DTSTAMP:20260422T172657
CREATED:20251127T131600Z
LAST-MODIFIED:20251127T131600Z
UID:7862-1792051200-1792137599@bockenheim-online.de
SUMMARY:Schlachtfest im WeinBistro
DESCRIPTION:
URL:https://bockenheim-online.de/veranstaltung/schlachtfest-im-weinbistro/
LOCATION:Zur Emichsburg\, Jakob-Böshenz-Straße 15\, Bockenheim\, RP\, 67278\, Deutschland
ATTACH;FMTTYPE=image/png:https://bockenheim-online.de/wp-content/uploads/2024/10/Weinbistro.png
ORGANIZER;CN="Kultur- und Verkehrsverein Bockenheim e.V.":MAILTO:info@bockenheim-online.de
END:VEVENT
BEGIN:VEVENT
DTSTART;VALUE=DATE:20261016
DTEND;VALUE=DATE:20261021
DTSTAMP:20260422T172657
CREATED:20251127T132538Z
LAST-MODIFIED:20251127T132538Z
UID:7864-1792137600-1792483199@bockenheim-online.de
SUMMARY:84. Bockenheimer Winzerfest
DESCRIPTION:
URL:https://bockenheim-online.de/veranstaltung/84-bockenheimer-winzerfest/
LOCATION:Festplatz\, Weinstraße 90\, Bockenheim\, RP\, 67278\, Deutschland
CATEGORIES:sonstige Veranstaltungen
ATTACH;FMTTYPE=image/webp:https://bockenheim-online.de/wp-content/uploads/2025/11/475708054_3984890905114959_5087788693396505713_n.webp
END:VEVENT
BEGIN:VEVENT
DTSTART;VALUE=DATE:20261017
DTEND;VALUE=DATE:20261019
DTSTAMP:20260422T172657
CREATED:20251127T132859Z
LAST-MODIFIED:20251127T132859Z
UID:7867-1792224000-1792310399@bockenheim-online.de
SUMMARY:74. Pfälzischer Mundartdichterwettstreit
DESCRIPTION:
URL:https://bockenheim-online.de/veranstaltung/74-pfaelzischer-mundartdichterwettstreit/
LOCATION:Festplatz\, Weinstraße 90\, Bockenheim\, RP\, 67278\, Deutschland
CATEGORIES:sonstige Veranstaltungen
ATTACH;FMTTYPE=image/webp:https://bockenheim-online.de/wp-content/uploads/2025/11/6861593_1_articledetail_gruppenbild_mundartdicherterwettstreit_bockenheim_25_img_4210.webp
ORGANIZER;CN="F%C3%B6rderkreis Mundart Bockenheim e.V.":MAILTO:info@bockenheim.de
END:VEVENT
BEGIN:VEVENT
DTSTART;TZID=Europe/Berlin:20261017T140000
DTEND;TZID=Europe/Berlin:20261017T200000
DTSTAMP:20260422T172657
CREATED:20260317T121127Z
LAST-MODIFIED:20260317T121127Z
UID:8158-1792245600-1792267200@bockenheim-online.de
SUMMARY:SchorleXpress mit dem Weingut V. Griebel
DESCRIPTION:
URL:https://bockenheim-online.de/veranstaltung/schorlexpress-mit-dem-weingut-v-griebel-7/
LOCATION:SchorleXpress\, Patricia Wingert\, Bockenheim an der Weinstraße\, RP\, 67278\, Germany
CATEGORIES:Winzer
ATTACH;FMTTYPE=image/jpeg:https://bockenheim-online.de/wp-content/uploads/2020/07/Griebel-Kuchen-SchorleXpress.jpg
ORGANIZER;CN="Weingut V. Griebel":MAILTO:info@weingut-griebel.de
END:VEVENT
BEGIN:VEVENT
DTSTART;TZID=Europe/Berlin:20261018T110000
DTEND;TZID=Europe/Berlin:20261018T200000
DTSTAMP:20260422T172657
CREATED:20260317T121211Z
LAST-MODIFIED:20260317T121211Z
UID:8160-1792321200-1792353600@bockenheim-online.de
SUMMARY:SchorleXpress mit dem Weingut V. Griebel
DESCRIPTION:
URL:https://bockenheim-online.de/veranstaltung/schorlexpress-mit-dem-weingut-v-griebel-8/
LOCATION:SchorleXpress\, Patricia Wingert\, Bockenheim an der Weinstraße\, RP\, 67278\, Germany
CATEGORIES:Winzer
ATTACH;FMTTYPE=image/jpeg:https://bockenheim-online.de/wp-content/uploads/2020/07/Griebel-Kuchen-SchorleXpress.jpg
ORGANIZER;CN="Weingut V. Griebel":MAILTO:info@weingut-griebel.de
END:VEVENT
BEGIN:VEVENT
DTSTART;TZID=Europe/Berlin:20261024T140000
DTEND;TZID=Europe/Berlin:20261024T200000
DTSTAMP:20260422T172657
CREATED:20260317T121349Z
LAST-MODIFIED:20260317T121349Z
UID:8162-1792850400-1792872000@bockenheim-online.de
SUMMARY:SchorleXpress mit dem Weingut Heiser-Buchner
DESCRIPTION:
URL:https://bockenheim-online.de/veranstaltung/schorlexpress-mit-dem-weingut-heiser-buchner-7/
LOCATION:SchorleXpress\, Patricia Wingert\, Bockenheim an der Weinstraße\, RP\, 67278\, Germany
CATEGORIES:Winzer
ATTACH;FMTTYPE=image/jpeg:https://bockenheim-online.de/wp-content/uploads/2025/03/Weingut-Heiser-Buchner.jpg
ORGANIZER;CN="Weingut Heiser-Buchner":MAILTO:heiser-buchner@t-online.de
END:VEVENT
BEGIN:VEVENT
DTSTART;TZID=Europe/Berlin:20261025T110000
DTEND;TZID=Europe/Berlin:20261025T200000
DTSTAMP:20260422T172657
CREATED:20260317T121435Z
LAST-MODIFIED:20260317T121435Z
UID:8164-1792926000-1792958400@bockenheim-online.de
SUMMARY:SchorleXpress mit dem Weingut Heiser-Buchner
DESCRIPTION:
URL:https://bockenheim-online.de/veranstaltung/schorlexpress-mit-dem-weingut-heiser-buchner-8/
LOCATION:SchorleXpress\, Patricia Wingert\, Bockenheim an der Weinstraße\, RP\, 67278\, Germany
CATEGORIES:Winzer
ATTACH;FMTTYPE=image/jpeg:https://bockenheim-online.de/wp-content/uploads/2025/03/Weingut-Heiser-Buchner.jpg
ORGANIZER;CN="Weingut Heiser-Buchner":MAILTO:heiser-buchner@t-online.de
END:VEVENT
BEGIN:VEVENT
DTSTART;TZID=Europe/Berlin:20261031T140000
DTEND;TZID=Europe/Berlin:20261101T200000
DTSTAMP:20260422T172657
CREATED:20251127T133108Z
LAST-MODIFIED:20260317T121837Z
UID:7870-1793455200-1793563200@bockenheim-online.de
SUMMARY:Saisonabschluss am SchorleXpress mit dem Weingut Kurt & Selma Klingel
DESCRIPTION:
URL:https://bockenheim-online.de/veranstaltung/saisonabschluss-am-schorlexpress/
LOCATION:SchorleXpress\, Patricia Wingert\, Bockenheim an der Weinstraße\, RP\, 67278\, Germany
CATEGORIES:Winzer
ATTACH;FMTTYPE=image/jpeg:https://bockenheim-online.de/wp-content/uploads/2025/06/Klingel-SchorleXpress.jpg
ORGANIZER;CN="Weingut Kurt und Selma Klingel":MAILTO:weingut_kklingel@web.de
END:VEVENT
BEGIN:VEVENT
DTSTART;TZID=Europe/Berlin:20261101T110000
DTEND;TZID=Europe/Berlin:20261102T200000
DTSTAMP:20260422T172657
CREATED:20260317T121751Z
LAST-MODIFIED:20260317T121751Z
UID:8168-1793530800-1793649600@bockenheim-online.de
SUMMARY:Saisonabschluss am SchorleXpress mit dem Weingut Kurt & Selma Klingel
DESCRIPTION:
URL:https://bockenheim-online.de/veranstaltung/saisonabschluss-am-schorlexpress-mit-dem-weingut-kurt-selma-klingel/
LOCATION:SchorleXpress\, Patricia Wingert\, Bockenheim an der Weinstraße\, RP\, 67278\, Germany
CATEGORIES:Winzer
ATTACH;FMTTYPE=image/jpeg:https://bockenheim-online.de/wp-content/uploads/2025/06/Klingel-SchorleXpress.jpg
ORGANIZER;CN="Weingut Kurt und Selma Klingel":MAILTO:weingut_kklingel@web.de
END:VEVENT
BEGIN:VEVENT
DTSTART;VALUE=DATE:20261120
DTEND;VALUE=DATE:20261123
DTSTAMP:20260422T172657
CREATED:20251127T134147Z
LAST-MODIFIED:20251127T134147Z
UID:7872-1795161600-1795334399@bockenheim-online.de
SUMMARY:Lichterglanz in der Villa Lauermann
DESCRIPTION:
URL:https://bockenheim-online.de/veranstaltung/lichterglanz-in-der-villa-lauermann/
LOCATION:Weingut Lauermann & Weyer\, Leininger Ring 79\, Bockenheim a.d. Weinstraße\, Rheinland Pfalz\, 67278\, Germany
ATTACH;FMTTYPE=image/webp:https://bockenheim-online.de/wp-content/uploads/2025/11/569537922_18538384360042336_8143464610526584367_nfull.webp
ORGANIZER;CN="Weingut Lauermann & Weyer":MAILTO:info@lauermannundweyer.de
END:VEVENT
BEGIN:VEVENT
DTSTART;VALUE=DATE:20261213
DTEND;VALUE=DATE:20261215
DTSTAMP:20260422T172657
CREATED:20251127T134702Z
LAST-MODIFIED:20251127T134702Z
UID:7876-1797148800-1797235199@bockenheim-online.de
SUMMARY:Pop- und Gospelkonzert
DESCRIPTION:
URL:https://bockenheim-online.de/veranstaltung/pop-und-gospelkonzert/
LOCATION:Lambertskirche\, Weinstraße 39\, Bockenheim\, 67278\, Germany
CATEGORIES:KVV
ATTACH;FMTTYPE=image/webp:https://bockenheim-online.de/wp-content/uploads/2025/11/l9N0q2FB.webp
END:VEVENT
END:VCALENDAR